Workbook

Sheet Input
B1: Public Safety Rotation Sheet Generator
B2: PSO NAME: | C2: RADIO NUMBER: | D2: POSITION: | N2: INSTRUCTIONS:
B3: A. Jigman | C3: 721 | D3: XO North | E3: ç | F3: NOTE: Try not to put standing positions back to back | I3: TIME: | N3: 1 | O3: List PSO names, radio number, and current postion
B4: B. Macoon | C4: 746 | D4: Z1 Patrol | I4: START: | J4: 0.45833333
B5: C. Johnson | C5: 789 | D5: TR Patrol | I5: END: | J5: 0.64583333 | N5: 2 | O5: Input start and end time. (NOTE: Start time is current rotation time)
B6: D. Egman | C6: 794B | D6: FG
B7: E. Redman | C7: 769 | D7: Z2 Patrol | N7: 3 | O7: List leadership names, radio number and note/position
B8: F. Kijhan | C8: 748 | D8: BREAKER | H8: LEADERSHIP:
H9: NAME: | I9: RADIO #: | J9: NOTE/POSITION: | N9: 4 | O9: Go to "Rotation" tab and copy data
H10: J. O'Daniel | I10: 700 | J10: S. Manager
H11: A. Schweitzer | I11: 701 | J11: Manager | N11: 5 | O11: Go to "Final" tab and paste VALUES
N13: 6 | O13: Make adjustments to rotation sheet and add mid-day shift (if applicable).
N15: 7 | O15: Copy final rotation sheet and paste it 2 times underneath final sheet
N17: 8 | O17: Highlight all of the sheets and then go to PAGE LAYOUT and press PRINT AREA, and then press SET AS PRINT AREA
F18: PSO's on Duty: | H18: =COUNTA(B3:B21) -> 6
N20: 9 | O20: Under PAGE LAYOUT, make Width 1-Page and Height 1-Page AND select "Print Gridlines"
N22: 10 | O22: PRINT AND DISTRIBUTE! ***PLEASE DO NOT SAVE THE FILE***

Sheet Rotation
A2: NAME: | B2: Radio Num.: | C2: =Input!J4 -> 0.45833333 | D2: =IF(LEN(C2)>0, IF((C2+1/24)<Input!$J$5, C2+1/24, ""), "") -> 0.5 | E2: =IF(LEN(D2)>0, IF((D2+1/24)<Input!$J$5, D2+1/24, ""), "") -> 0.54166667 | F2: =IF(LEN(E2)>0, IF((E2+1/24)<Input!$J$5, E2+1/24, ""), "") -> 0.58333333 | G2: =IF(LEN(F2)>0, IF((F2+1/24)<Input!$J$5, F2+1/24, ""), "") -> 0.625 | H2: =IF(LEN(G2)>0, IF((G2+1/24)<Input!$J$5, G2+1/24, ""), "") | I2: =IF(LEN(H2)>0, IF((H2+1/24)<Input!$J$5, H2+1/24, ""), "") | J2: =IF(LEN(I2)>0, IF((I2+1/24)<Input!$J$5, I2+1/24, ""), "") | K2: =IF(LEN(J2)>0, IF((J2+1/24)<Input!$J$5, J2+1/24, ""), "") | L2: =IF(LEN(K2)>0, IF((K2+1/24)<Input!$J$5, K2+1/24, ""), "") | M2: LEADERSHIP:
A3: =IF(LEN(Input!B3)>0, Input!B3, "") -> A. Jigman | B3: =IF(LEN(Input!C3)>0, Input!C3, "") -> 721 | C3: =IF(LEN(A3)>0, Input!D3, "") -> XO North | D3: =IF(LEN(D2)>0, IF(LEN(C3)>0, IF(LEN(C4)>0, C4, OFFSET(C4, -(Input!$H$18), 0)),""),"") -> Z1 Patrol | E3: =IF(LEN(E2)>0, IF(LEN(D3)>0, IF(LEN(D4)>0, D4, OFFSET(D4, -(Input!$H$18), 0)),""),"") -> TR Patrol | F3: =IF(LEN(F2)>0, IF(LEN(E3)>0, IF(LEN(E4)>0, E4, OFFSET(E4, -(Input!$H$18), 0)),""),"") -> FG | G3: =IF(LEN(G2)>0, IF(LEN(F3)>0, IF(LEN(F4)>0, F4, OFFSET(F4, -(Input!$H$18), 0)),""),"") -> Z2 Patrol | H3: =IF(LEN(H2)>0, IF(LEN(G3)>0, IF(LEN(G4)>0, G4, OFFSET(G4, -(Input!$H$18), 0)),""),"") | I3: =IF(LEN(I2)>0, IF(LEN(H3)>0, IF(LEN(H4)>0, H4, OFFSET(H4, -(Input!$H$18), 0)),""),"") | J3: =IF(LEN(J2)>0, IF(LEN(I3)>0, IF(LEN(I4)>0, I4, OFFSET(I4, -(Input!$H$18), 0)),""),"") | K3: =IF(LEN(K2)>0, IF(LEN(J3)>0, IF(LEN(J4)>0, J4, OFFSET(J4, -(Input!$H$18), 0)),""),"") | L3: =IF(LEN(L2)>0, IF(LEN(K3)>0, IF(LEN(K4)>0, K4, OFFSET(K4, -(Input!$H$18), 0)),""),"") | M3: NAME: | N3: Radio Num: | O3: Position:
A4: =IF(LEN(Input!B4)>0, Input!B4, "") -> B. Macoon | B4: =IF(LEN(Input!C4)>0, Input!C4, "") -> 746 | C4: =IF(LEN(A4)>0, Input!D4, "") -> Z1 Patrol | D4: =IF(LEN(D3)>0, IF(LEN(C4)>0, IF(LEN(C5)>0, C5, OFFSET(C5, -(Input!$H$18), 0)),""),"") -> TR Patrol | E4: =IF(LEN(E3)>0, IF(LEN(D4)>0, IF(LEN(D5)>0, D5, OFFSET(D5, -(Input!$H$18), 0)),""),"") -> FG | F4: =IF(LEN(F3)>0, IF(LEN(E4)>0, IF(LEN(E5)>0, E5, OFFSET(E5, -(Input!$H$18), 0)),""),"") -> Z2 Patrol | G4: =IF(LEN(G3)>0, IF(LEN(F4)>0, IF(LEN(F5)>0, F5, OFFSET(F5, -(Input!$H$18), 0)),""),"") -> BREAKER | H4: =IF(LEN(H3)>0, IF(LEN(G4)>0, IF(LEN(G5)>0, G5, OFFSET(G5, -(Input!$H$18), 0)),""),"") | I4: =IF(LEN(I3)>0, IF(LEN(H4)>0, IF(LEN(H5)>0, H5, OFFSET(H5, -(Input!$H$18), 0)),""),"") | J4: =IF(LEN(J3)>0, IF(LEN(I4)>0, IF(LEN(I5)>0, I5, OFFSET(I5, -(Input!$H$18), 0)),""),"") | K4: =IF(LEN(K3)>0, IF(LEN(J4)>0, IF(LEN(J5)>0, J5, OFFSET(J5, -(Input!$H$18), 0)),""),"") | L4: =IF(LEN(L3)>0, IF(LEN(K4)>0, IF(LEN(K5)>0, K5, OFFSET(K5, -(Input!$H$18), 0)),""),"") | M4: =IF(ISBLANK(Input!H10),"",Input!H10) -> J. O'Daniel | N4: =IF(ISBLANK(Input!I10),"",Input!I10) -> 700 | O4: =IF(ISBLANK(Input!J10),"",Input!J10) -> S. Manager
A5: =IF(LEN(Input!B5)>0, Input!B5, "") -> C. Johnson | B5: =IF(LEN(Input!C5)>0, Input!C5, "") -> 789 | C5: =IF(LEN(A5)>0, Input!D5, "") -> TR Patrol | D5: =IF(LEN(D4)>0, IF(LEN(C5)>0, IF(LEN(C6)>0, C6, OFFSET(C6, -(Input!$H$18), 0)),""),"") -> FG | E5: =IF(LEN(E4)>0, IF(LEN(D5)>0, IF(LEN(D6)>0, D6, OFFSET(D6, -(Input!$H$18), 0)),""),"") -> Z2 Patrol | F5: =IF(LEN(F4)>0, IF(LEN(E5)>0, IF(LEN(E6)>0, E6, OFFSET(E6, -(Input!$H$18), 0)),""),"") -> BREAKER | G5: =IF(LEN(G4)>0, IF(LEN(F5)>0, IF(LEN(F6)>0, F6, OFFSET(F6, -(Input!$H$18), 0)),""),"") -> XO North | H5: =IF(LEN(H4)>0, IF(LEN(G5)>0, IF(LEN(G6)>0, G6, OFFSET(G6, -(Input!$H$18), 0)),""),"") | I5: =IF(LEN(I4)>0, IF(LEN(H5)>0, IF(LEN(H6)>0, H6, OFFSET(H6, -(Input!$H$18), 0)),""),"") | J5: =IF(LEN(J4)>0, IF(LEN(I5)>0, IF(LEN(I6)>0, I6, OFFSET(I6, -(Input!$H$18), 0)),""),"") | K5: =IF(LEN(K4)>0, IF(LEN(J5)>0, IF(LEN(J6)>0, J6, OFFSET(J6, -(Input!$H$18), 0)),""),"") | L5: =IF(LEN(L4)>0, IF(LEN(K5)>0, IF(LEN(K6)>0, K6, OFFSET(K6, -(Input!$H$18), 0)),""),"") | M5: =IF(ISBLANK(Input!H11),"",Input!H11) -> A. Schweitzer | N5: =IF(ISBLANK(Input!I11),"",Input!I11) -> 701 | O5: =IF(ISBLANK(Input!J11),"",Input!J11) -> Manager
A6: =IF(LEN(Input!B6)>0, Input!B6, "") -> D. Egman | B6: =IF(LEN(Input!C6)>0, Input!C6, "") -> 794B | C6: =IF(LEN(A6)>0, Input!D6, "") -> FG | D6: =IF(LEN(D5)>0, IF(LEN(C6)>0, IF(LEN(C7)>0, C7, OFFSET(C7, -(Input!$H$18), 0)),""),"") -> Z2 Patrol | E6: =IF(LEN(E5)>0, IF(LEN(D6)>0, IF(LEN(D7)>0, D7, OFFSET(D7, -(Input!$H$18), 0)),""),"") -> BREAKER | F6: =IF(LEN(F5)>0, IF(LEN(E6)>0, IF(LEN(E7)>0, E7, OFFSET(E7, -(Input!$H$18), 0)),""),"") -> XO North | G6: =IF(LEN(G5)>0, IF(LEN(F6)>0, IF(LEN(F7)>0, F7, OFFSET(F7, -(Input!$H$18), 0)),""),"") -> Z1 Patrol | H6: =IF(LEN(H5)>0, IF(LEN(G6)>0, IF(LEN(G7)>0, G7, OFFSET(G7, -(Input!$H$18), 0)),""),"") | I6: =IF(LEN(I5)>0, IF(LEN(H6)>0, IF(LEN(H7)>0, H7, OFFSET(H7, -(Input!$H$18), 0)),""),"") | J6: =IF(LEN(J5)>0, IF(LEN(I6)>0, IF(LEN(I7)>0, I7, OFFSET(I7, -(Input!$H$18), 0)),""),"") | K6: =IF(LEN(K5)>0, IF(LEN(J6)>0, IF(LEN(J7)>0, J7, OFFSET(J7, -(Input!$H$18), 0)),""),"") | L6: =IF(LEN(L5)>0, IF(LEN(K6)>0, IF(LEN(K7)>0, K7, OFFSET(K7, -(Input!$H$18), 0)),""),"") | M6: =IF(ISBLANK(Input!H12),"",Input!H12) | N6: =IF(ISBLANK(Input!I12),"",Input!I12) | O6: =IF(ISBLANK(Input!J12),"",Input!J12)
A7: =IF(LEN(Input!B7)>0, Input!B7, "") -> E. Redman | B7: =IF(LEN(Input!C7)>0, Input!C7, "") -> 769 | C7: =IF(LEN(A7)>0, Input!D7, "") -> Z2 Patrol | D7: =IF(LEN(D6)>0, IF(LEN(C7)>0, IF(LEN(C8)>0, C8, OFFSET(C8, -(Input!$H$18), 0)),""),"") -> BREAKER | E7: =IF(LEN(E6)>0, IF(LEN(D7)>0, IF(LEN(D8)>0, D8, OFFSET(D8, -(Input!$H$18), 0)),""),"") -> XO North | F7: =IF(LEN(F6)>0, IF(LEN(E7)>0, IF(LEN(E8)>0, E8, OFFSET(E8, -(Input!$H$18), 0)),""),"") -> Z1 Patrol | G7: =IF(LEN(G6)>0, IF(LEN(F7)>0, IF(LEN(F8)>0, F8, OFFSET(F8, -(Input!$H$18), 0)),""),"") -> TR Patrol | H7: =IF(LEN(H6)>0, IF(LEN(G7)>0, IF(LEN(G8)>0, G8, OFFSET(G8, -(Input!$H$18), 0)),""),"") | I7: =IF(LEN(I6)>0, IF(LEN(H7)>0, IF(LEN(H8)>0, H8, OFFSET(H8, -(Input!$H$18), 0)),""),"") | J7: =IF(LEN(J6)>0, IF(LEN(I7)>0, IF(LEN(I8)>0, I8, OFFSET(I8, -(Input!$H$18), 0)),""),"") | K7: =IF(LEN(K6)>0, IF(LEN(J7)>0, IF(LEN(J8)>0, J8, OFFSET(J8, -(Input!$H$18), 0)),""),"") | L7: =IF(LEN(L6)>0, IF(LEN(K7)>0, IF(LEN(K8)>0, K8, OFFSET(K8, -(Input!$H$18), 0)),""),"") | M7: =IF(ISBLANK(Input!H13),"",Input!H13) | N7: =IF(ISBLANK(Input!I13),"",Input!I13) | O7: =IF(ISBLANK(Input!J13),"",Input!J13)
A8: =IF(LEN(Input!B8)>0, Input!B8, "") -> F. Kijhan | B8: =IF(LEN(Input!C8)>0, Input!C8, "") -> 748 | C8: =IF(LEN(A8)>0, Input!D8, "") -> BREAKER | D8: =IF(LEN(D7)>0, IF(LEN(C8)>0, IF(LEN(C9)>0, C9, OFFSET(C9, -(Input!$H$18), 0)),""),"") -> XO North | E8: =IF(LEN(E7)>0, IF(LEN(D8)>0, IF(LEN(D9)>0, D9, OFFSET(D9, -(Input!$H$18), 0)),""),"") -> Z1 Patrol | F8: =IF(LEN(F7)>0, IF(LEN(E8)>0, IF(LEN(E9)>0, E9, OFFSET(E9, -(Input!$H$18), 0)),""),"") -> TR Patrol | G8: =IF(LEN(G7)>0, IF(LEN(F8)>0, IF(LEN(F9)>0, F9, OFFSET(F9, -(Input!$H$18), 0)),""),"") -> FG | H8: =IF(LEN(H7)>0, IF(LEN(G8)>0, IF(LEN(G9)>0, G9, OFFSET(G9, -(Input!$H$18), 0)),""),"") | I8: =IF(LEN(I7)>0, IF(LEN(H8)>0, IF(LEN(H9)>0, H9, OFFSET(H9, -(Input!$H$18), 0)),""),"") | J8: =IF(LEN(J7)>0, IF(LEN(I8)>0, IF(LEN(I9)>0, I9, OFFSET(I9, -(Input!$H$18), 0)),""),"") | K8: =IF(LEN(K7)>0, IF(LEN(J8)>0, IF(LEN(J9)>0, J9, OFFSET(J9, -(Input!$H$18), 0)),""),"") | L8: =IF(LEN(L7)>0, IF(LEN(K8)>0, IF(LEN(K9)>0, K9, OFFSET(K9, -(Input!$H$18), 0)),""),"") | M8: =IF(ISBLANK(Input!H14),"",Input!H14) | N8: =IF(ISBLANK(Input!I14),"",Input!I14) | O8: =IF(ISBLANK(Input!J14),"",Input!J14)
A9: =IF(LEN(Input!B9)>0, Input!B9, "") | B9: =IF(LEN(Input!C9)>0, Input!C9, "") | C9: =IF(LEN(A9)>0, Input!D9, "") | D9: =IF(LEN(D8)>0, IF(LEN(C9)>0, IF(LEN(C10)>0, C10, OFFSET(C10, -(Input!$H$18), 0)),""),"") | E9: =IF(LEN(E8)>0, IF(LEN(D9)>0, IF(LEN(D10)>0, D10, OFFSET(D10, -(Input!$H$18), 0)),""),"") | F9: =IF(LEN(F8)>0, IF(LEN(E9)>0, IF(LEN(E10)>0, E10, OFFSET(E10, -(Input!$H$18), 0)),""),"") | G9: =IF(LEN(G8)>0, IF(LEN(F9)>0, IF(LEN(F10)>0, F10, OFFSET(F10, -(Input!$H$18), 0)),""),"") | H9: =IF(LEN(H8)>0, IF(LEN(G9)>0, IF(LEN(G10)>0, G10, OFFSET(G10, -(Input!$H$18), 0)),""),"") | I9: =IF(LEN(I8)>0, IF(LEN(H9)>0, IF(LEN(H10)>0, H10, OFFSET(H10, -(Input!$H$18), 0)),""),"") | J9: =IF(LEN(J8)>0, IF(LEN(I9)>0, IF(LEN(I10)>0, I10, OFFSET(I10, -(Input!$H$18), 0)),""),"") | K9: =IF(LEN(K8)>0, IF(LEN(J9)>0, IF(LEN(J10)>0, J10, OFFSET(J10, -(Input!$H$18), 0)),""),"") | L9: =IF(LEN(L8)>0, IF(LEN(K9)>0, IF(LEN(K10)>0, K10, OFFSET(K10, -(Input!$H$18), 0)),""),"")
A10: =IF(LEN(Input!B10)>0, Input!B10, "") | B10: =IF(LEN(Input!C10)>0, Input!C10, "") | C10: =IF(LEN(A10)>0, Input!D10, "") | D10: =IF(LEN(D9)>0, IF(LEN(C10)>0, IF(LEN(C11)>0, C11, OFFSET(C11, -(Input!$H$18), 0)),""),"") | E10: =IF(LEN(E9)>0, IF(LEN(D10)>0, IF(LEN(D11)>0, D11, OFFSET(D11, -(Input!$H$18), 0)),""),"") | F10: =IF(LEN(F9)>0, IF(LEN(E10)>0, IF(LEN(E11)>0, E11, OFFSET(E11, -(Input!$H$18), 0)),""),"") | G10: =IF(LEN(G9)>0, IF(LEN(F10)>0, IF(LEN(F11)>0, F11, OFFSET(F11, -(Input!$H$18), 0)),""),"") | H10: =IF(LEN(H9)>0, IF(LEN(G10)>0, IF(LEN(G11)>0, G11, OFFSET(G11, -(Input!$H$18), 0)),""),"") | I10: =IF(LEN(I9)>0, IF(LEN(H10)>0, IF(LEN(H11)>0, H11, OFFSET(H11, -(Input!$H$18), 0)),""),"") | J10: =IF(LEN(J9)>0, IF(LEN(I10)>0, IF(LEN(I11)>0, I11, OFFSET(I11, -(Input!$H$18), 0)),""),"") | K10: =IF(LEN(K9)>0, IF(LEN(J10)>0, IF(LEN(J11)>0, J11, OFFSET(J11, -(Input!$H$18), 0)),""),"") | L10: =IF(LEN(L9)>0, IF(LEN(K10)>0, IF(LEN(K11)>0, K11, OFFSET(K11, -(Input!$H$18), 0)),""),"")
A11: =IF(LEN(Input!B11)>0, Input!B11, "") | B11: =IF(LEN(Input!C11)>0, Input!C11, "") | C11: =IF(LEN(A11)>0, Input!D11, "") | D11: =IF(LEN(D10)>0, IF(LEN(C11)>0, IF(LEN(C12)>0, C12, OFFSET(C12, -(Input!$H$18), 0)),""),"") | E11: =IF(LEN(E10)>0, IF(LEN(D11)>0, IF(LEN(D12)>0, D12, OFFSET(D12, -(Input!$H$18), 0)),""),"") | F11: =IF(LEN(F10)>0, IF(LEN(E11)>0, IF(LEN(E12)>0, E12, OFFSET(E12, -(Input!$H$18), 0)),""),"") | G11: =IF(LEN(G10)>0, IF(LEN(F11)>0, IF(LEN(F12)>0, F12, OFFSET(F12, -(Input!$H$18), 0)),""),"") | H11: =IF(LEN(H10)>0, IF(LEN(G11)>0, IF(LEN(G12)>0, G12, OFFSET(G12, -(Input!$H$18), 0)),""),"") | I11: =IF(LEN(I10)>0, IF(LEN(H11)>0, IF(LEN(H12)>0, H12, OFFSET(H12, -(Input!$H$18), 0)),""),"") | J11: =IF(LEN(J10)>0, IF(LEN(I11)>0, IF(LEN(I12)>0, I12, OFFSET(I12, -(Input!$H$18), 0)),""),"") | K11: =IF(LEN(K10)>0, IF(LEN(J11)>0, IF(LEN(J12)>0, J12, OFFSET(J12, -(Input!$H$18), 0)),""),"") | L11: =IF(LEN(L10)>0, IF(LEN(K11)>0, IF(LEN(K12)>0, K12, OFFSET(K12, -(Input!$H$18), 0)),""),"")
A12: =IF(LEN(Input!B12)>0, Input!B12, "") | B12: =IF(LEN(Input!C12)>0, Input!C12, "") | C12: =IF(LEN(A12)>0, Input!D12, "") | D12: =IF(LEN(D11)>0, IF(LEN(C12)>0, IF(LEN(C13)>0, C13, OFFSET(C13, -(Input!$H$18), 0)),""),"") | E12: =IF(LEN(E11)>0, IF(LEN(D12)>0, IF(LEN(D13)>0, D13, OFFSET(D13, -(Input!$H$18), 0)),""),"") | F12: =IF(LEN(F11)>0, IF(LEN(E12)>0, IF(LEN(E13)>0, E13, OFFSET(E13, -(Input!$H$18), 0)),""),"") | G12: =IF(LEN(G11)>0, IF(LEN(F12)>0, IF(LEN(F13)>0, F13, OFFSET(F13, -(Input!$H$18), 0)),""),"") | H12: =IF(LEN(H11)>0, IF(LEN(G12)>0, IF(LEN(G13)>0, G13, OFFSET(G13, -(Input!$H$18), 0)),""),"") | I12: =IF(LEN(I11)>0, IF(LEN(H12)>0, IF(LEN(H13)>0, H13, OFFSET(H13, -(Input!$H$18), 0)),""),"") | J12: =IF(LEN(J11)>0, IF(LEN(I12)>0, IF(LEN(I13)>0, I13, OFFSET(I13, -(Input!$H$18), 0)),""),"") | K12: =IF(LEN(K11)>0, IF(LEN(J12)>0, IF(LEN(J13)>0, J13, OFFSET(J13, -(Input!$H$18), 0)),""),"") | L12: =IF(LEN(L11)>0, IF(LEN(K12)>0, IF(LEN(K13)>0, K13, OFFSET(K13, -(Input!$H$18), 0)),""),"")
A13: =IF(LEN(Input!B13)>0, Input!B13, "") | B13: =IF(LEN(Input!C13)>0, Input!C13, "") | C13: =IF(LEN(A13)>0, Input!D13, "") | D13: =IF(LEN(D12)>0, IF(LEN(C13)>0, IF(LEN(C14)>0, C14, OFFSET(C14, -(Input!$H$18), 0)),""),"") | E13: =IF(LEN(E12)>0, IF(LEN(D13)>0, IF(LEN(D14)>0, D14, OFFSET(D14, -(Input!$H$18), 0)),""),"") | F13: =IF(LEN(F12)>0, IF(LEN(E13)>0, IF(LEN(E14)>0, E14, OFFSET(E14, -(Input!$H$18), 0)),""),"") | G13: =IF(LEN(G12)>0, IF(LEN(F13)>0, IF(LEN(F14)>0, F14, OFFSET(F14, -(Input!$H$18), 0)),""),"") | H13: =IF(LEN(H12)>0, IF(LEN(G13)>0, IF(LEN(G14)>0, G14, OFFSET(G14, -(Input!$H$18), 0)),""),"") | I13: =IF(LEN(I12)>0, IF(LEN(H13)>0, IF(LEN(H14)>0, H14, OFFSET(H14, -(Input!$H$18), 0)),""),"") | J13: =IF(LEN(J12)>0, IF(LEN(I13)>0, IF(LEN(I14)>0, I14, OFFSET(I14, -(Input!$H$18), 0)),""),"") | K13: =IF(LEN(K12)>0, IF(LEN(J13)>0, IF(LEN(J14)>0, J14, OFFSET(J14, -(Input!$H$18), 0)),""),"") | L13: =IF(LEN(L12)>0, IF(LEN(K13)>0, IF(LEN(K14)>0, K14, OFFSET(K14, -(Input!$H$18), 0)),""),"")
A14: =IF(LEN(Input!B14)>0, Input!B14, "") | B14: =IF(LEN(Input!C14)>0, Input!C14, "") | C14: =IF(LEN(A14)>0, Input!D14, "") | D14: =IF(LEN(D13)>0, IF(LEN(C14)>0, IF(LEN(C15)>0, C15, OFFSET(C15, -(Input!$H$18), 0)),""),"") | E14: =IF(LEN(E13)>0, IF(LEN(D14)>0, IF(LEN(D15)>0, D15, OFFSET(D15, -(Input!$H$18), 0)),""),"") | F14: =IF(LEN(F13)>0, IF(LEN(E14)>0, IF(LEN(E15)>0, E15, OFFSET(E15, -(Input!$H$18), 0)),""),"") | G14: =IF(LEN(G13)>0, IF(LEN(F14)>0, IF(LEN(F15)>0, F15, OFFSET(F15, -(Input!$H$18), 0)),""),"") | H14: =IF(LEN(H13)>0, IF(LEN(G14)>0, IF(LEN(G15)>0, G15, OFFSET(G15, -(Input!$H$18), 0)),""),"") | I14: =IF(LEN(I13)>0, IF(LEN(H14)>0, IF(LEN(H15)>0, H15, OFFSET(H15, -(Input!$H$18), 0)),""),"") | J14: =IF(LEN(J13)>0, IF(LEN(I14)>0, IF(LEN(I15)>0, I15, OFFSET(I15, -(Input!$H$18), 0)),""),"") | K14: =IF(LEN(K13)>0, IF(LEN(J14)>0, IF(LEN(J15)>0, J15, OFFSET(J15, -(Input!$H$18), 0)),""),"") | L14: =IF(LEN(L13)>0, IF(LEN(K14)>0, IF(LEN(K15)>0, K15, OFFSET(K15, -(Input!$H$18), 0)),""),"")
A15: =IF(LEN(Input!B15)>0, Input!B15, "") | B15: =IF(LEN(Input!C15)>0, Input!C15, "") | C15: =IF(LEN(A15)>0, Input!D15, "") | D15: =IF(LEN(D14)>0, IF(LEN(C15)>0, IF(LEN(C16)>0, C16, OFFSET(C16, -(Input!$H$18), 0)),""),"") | E15: =IF(LEN(E14)>0, IF(LEN(D15)>0, IF(LEN(D16)>0, D16, OFFSET(D16, -(Input!$H$18), 0)),""),"") | F15: =IF(LEN(F14)>0, IF(LEN(E15)>0, IF(LEN(E16)>0, E16, OFFSET(E16, -(Input!$H$18), 0)),""),"") | G15: =IF(LEN(G14)>0, IF(LEN(F15)>0, IF(LEN(F16)>0, F16, OFFSET(F16, -(Input!$H$18), 0)),""),"") | H15: =IF(LEN(H14)>0, IF(LEN(G15)>0, IF(LEN(G16)>0, G16, OFFSET(G16, -(Input!$H$18), 0)),""),"") | I15: =IF(LEN(I14)>0, IF(LEN(H15)>0, IF(LEN(H16)>0, H16, OFFSET(H16, -(Input!$H$18), 0)),""),"") | J15: =IF(LEN(J14)>0, IF(LEN(I15)>0, IF(LEN(I16)>0, I16, OFFSET(I16, -(Input!$H$18), 0)),""),"") | K15: =IF(LEN(K14)>0, IF(LEN(J15)>0, IF(LEN(J16)>0, J16, OFFSET(J16, -(Input!$H$18), 0)),""),"") | L15: =IF(LEN(L14)>0, IF(LEN(K15)>0, IF(LEN(K16)>0, K16, OFFSET(K16, -(Input!$H$18), 0)),""),"")
A16: =IF(LEN(Input!B16)>0, Input!B16, "") | B16: =IF(LEN(Input!C16)>0, Input!C16, "") | C16: =IF(LEN(A16)>0, Input!D16, "") | D16: =IF(LEN(D15)>0, IF(LEN(C16)>0, IF(LEN(C17)>0, C17, OFFSET(C17, -(Input!$H$18), 0)),""),"") | E16: =IF(LEN(E15)>0, IF(LEN(D16)>0, IF(LEN(D17)>0, D17, OFFSET(D17, -(Input!$H$18), 0)),""),"") | F16: =IF(LEN(F15)>0, IF(LEN(E16)>0, IF(LEN(E17)>0, E17, OFFSET(E17, -(Input!$H$18), 0)),""),"") | G16: =IF(LEN(G15)>0, IF(LEN(F16)>0, IF(LEN(F17)>0, F17, OFFSET(F17, -(Input!$H$18), 0)),""),"") | H16: =IF(LEN(H15)>0, IF(LEN(G16)>0, IF(LEN(G17)>0, G17, OFFSET(G17, -(Input!$H$18), 0)),""),"") | I16: =IF(LEN(I15)>0, IF(LEN(H16)>0, IF(LEN(H17)>0, H17, OFFSET(H17, -(Input!$H$18), 0)),""),"") | J16: =IF(LEN(J15)>0, IF(LEN(I16)>0, IF(LEN(I17)>0, I17, OFFSET(I17, -(Input!$H$18), 0)),""),"") | K16: =IF(LEN(K15)>0, IF(LEN(J16)>0, IF(LEN(J17)>0, J17, OFFSET(J17, -(Input!$H$18), 0)),""),"") | L16: =IF(LEN(L15)>0, IF(LEN(K16)>0, IF(LEN(K17)>0, K17, OFFSET(K17, -(Input!$H$18), 0)),""),"")
A17: =IF(LEN(Input!B17)>0, Input!B17, "") | B17: =IF(LEN(Input!C17)>0, Input!C17, "") | C17: =IF(LEN(A17)>0, Input!D17, "") | D17: =IF(LEN(D16)>0, IF(LEN(C17)>0, IF(LEN(C18)>0, C18, OFFSET(C18, -(Input!$H$18), 0)),""),"") | E17: =IF(LEN(E16)>0, IF(LEN(D17)>0, IF(LEN(D18)>0, D18, OFFSET(D18, -(Input!$H$18), 0)),""),"") | F17: =IF(LEN(F16)>0, IF(LEN(E17)>0, IF(LEN(E18)>0, E18, OFFSET(E18, -(Input!$H$18), 0)),""),"") | G17: =IF(LEN(G16)>0, IF(LEN(F17)>0, IF(LEN(F18)>0, F18, OFFSET(F18, -(Input!$H$18), 0)),""),"") | H17: =IF(LEN(H16)>0, IF(LEN(G17)>0, IF(LEN(G18)>0, G18, OFFSET(G18, -(Input!$H$18), 0)),""),"") | I17: =IF(LEN(I16)>0, IF(LEN(H17)>0, IF(LEN(H18)>0, H18, OFFSET(H18, -(Input!$H$18), 0)),""),"") | J17: =IF(LEN(J16)>0, IF(LEN(I17)>0, IF(LEN(I18)>0, I18, OFFSET(I18, -(Input!$H$18), 0)),""),"") | K17: =IF(LEN(K16)>0, IF(LEN(J17)>0, IF(LEN(J18)>0, J18, OFFSET(J18, -(Input!$H$18), 0)),""),"") | L17: =IF(LEN(L16)>0, IF(LEN(K17)>0, IF(LEN(K18)>0, K18, OFFSET(K18, -(Input!$H$18), 0)),""),"")
A18: =IF(LEN(Input!B18)>0, Input!B18, "") | B18: =IF(LEN(Input!C18)>0, Input!C18, "") | C18: =IF(LEN(A18)>0, Input!D18, "") | D18: =IF(LEN(D17)>0, IF(LEN(C18)>0, IF(LEN(C19)>0, C19, OFFSET(C19, -(Input!$H$18), 0)),""),"") | E18: =IF(LEN(E17)>0, IF(LEN(D18)>0, IF(LEN(D19)>0, D19, OFFSET(D19, -(Input!$H$18), 0)),""),"") | F18: =IF(LEN(F17)>0, IF(LEN(E18)>0, IF(LEN(E19)>0, E19, OFFSET(E19, -(Input!$H$18), 0)),""),"") | G18: =IF(LEN(G17)>0, IF(LEN(F18)>0, IF(LEN(F19)>0, F19, OFFSET(F19, -(Input!$H$18), 0)),""),"") | H18: =IF(LEN(H17)>0, IF(LEN(G18)>0, IF(LEN(G19)>0, G19, OFFSET(G19, -(Input!$H$18), 0)),""),"") | I18: =IF(LEN(I17)>0, IF(LEN(H18)>0, IF(LEN(H19)>0, H19, OFFSET(H19, -(Input!$H$18), 0)),""),"") | J18: =IF(LEN(J17)>0, IF(LEN(I18)>0, IF(LEN(I19)>0, I19, OFFSET(I19, -(Input!$H$18), 0)),""),"") | K18: =IF(LEN(K17)>0, IF(LEN(J18)>0, IF(LEN(J19)>0, J19, OFFSET(J19, -(Input!$H$18), 0)),""),"") | L18: =IF(LEN(L17)>0, IF(LEN(K18)>0, IF(LEN(K19)>0, K19, OFFSET(K19, -(Input!$H$18), 0)),""),"")
A19: =IF(LEN(Input!B19)>0, Input!B19, "") | B19: =IF(LEN(Input!C19)>0, Input!C19, "") | C19: =IF(LEN(A19)>0, Input!D19, "") | D19: =IF(LEN(D18)>0, IF(LEN(C19)>0, IF(LEN(C20)>0, C20, OFFSET(C20, -(Input!$H$18), 0)),""),"") | E19: =IF(LEN(E18)>0, IF(LEN(D19)>0, IF(LEN(D20)>0, D20, OFFSET(D20, -(Input!$H$18), 0)),""),"") | F19: =IF(LEN(F18)>0, IF(LEN(E19)>0, IF(LEN(E20)>0, E20, OFFSET(E20, -(Input!$H$18), 0)),""),"") | G19: =IF(LEN(G18)>0, IF(LEN(F19)>0, IF(LEN(F20)>0, F20, OFFSET(F20, -(Input!$H$18), 0)),""),"") | H19: =IF(LEN(H18)>0, IF(LEN(G19)>0, IF(LEN(G20)>0, G20, OFFSET(G20, -(Input!$H$18), 0)),""),"") | I19: =IF(LEN(I18)>0, IF(LEN(H19)>0, IF(LEN(H20)>0, H20, OFFSET(H20, -(Input!$H$18), 0)),""),"") | J19: =IF(LEN(J18)>0, IF(LEN(I19)>0, IF(LEN(I20)>0, I20, OFFSET(I20, -(Input!$H$18), 0)),""),"") | K19: =IF(LEN(K18)>0, IF(LEN(J19)>0, IF(LEN(J20)>0, J20, OFFSET(J20, -(Input!$H$18), 0)),""),"") | L19: =IF(LEN(L18)>0, IF(LEN(K19)>0, IF(LEN(K20)>0, K20, OFFSET(K20, -(Input!$H$18), 0)),""),"")
A20: =IF(LEN(Input!B20)>0, Input!B20, "") | B20: =IF(LEN(Input!C20)>0, Input!C20, "") | C20: =IF(LEN(A20)>0, Input!D20, "") | D20: =IF(LEN(D19)>0, IF(LEN(C20)>0, IF(LEN(C21)>0, C21, OFFSET(C21, -(Input!$H$18), 0)),""),"") | E20: =IF(LEN(E19)>0, IF(LEN(D20)>0, IF(LEN(D21)>0, D21, OFFSET(D21, -(Input!$H$18), 0)),""),"") | F20: =IF(LEN(F19)>0, IF(LEN(E20)>0, IF(LEN(E21)>0, E21, OFFSET(E21, -(Input!$H$18), 0)),""),"") | G20: =IF(LEN(G19)>0, IF(LEN(F20)>0, IF(LEN(F21)>0, F21, OFFSET(F21, -(Input!$H$18), 0)),""),"") | H20: =IF(LEN(H19)>0, IF(LEN(G20)>0, IF(LEN(G21)>0, G21, OFFSET(G21, -(Input!$H$18), 0)),""),"") | I20: =IF(LEN(I19)>0, IF(LEN(H20)>0, IF(LEN(H21)>0, H21, OFFSET(H21, -(Input!$H$18), 0)),""),"") | J20: =IF(LEN(J19)>0, IF(LEN(I20)>0, IF(LEN(I21)>0, I21, OFFSET(I21, -(Input!$H$18), 0)),""),"") | K20: =IF(LEN(K19)>0, IF(LEN(J20)>0, IF(LEN(J21)>0, J21, OFFSET(J21, -(Input!$H$18), 0)),""),"") | L20: =IF(LEN(L19)>0, IF(LEN(K20)>0, IF(LEN(K21)>0, K21, OFFSET(K21, -(Input!$H$18), 0)),""),"")
A21: =IF(LEN(Input!B21)>0, Input!B21, "") | B21: =IF(LEN(Input!C21)>0, Input!C21, "") | C21: =IF(LEN(A21)>0, Input!D21, "") | D21: =IF(LEN(D20)>0, IF(LEN(C21)>0, IF(LEN(C22)>0, C22, OFFSET(C22, -(Input!$H$18), 0)),""),"") | E21: =IF(LEN(E20)>0, IF(LEN(D21)>0, IF(LEN(D22)>0, D22, OFFSET(D22, -(Input!$H$18), 0)),""),"") | F21: =IF(LEN(F20)>0, IF(LEN(E21)>0, IF(LEN(E22)>0, E22, OFFSET(E22, -(Input!$H$18), 0)),""),"") | G21: =IF(LEN(G20)>0, IF(LEN(F21)>0, IF(LEN(F22)>0, F22, OFFSET(F22, -(Input!$H$18), 0)),""),"") | H21: =IF(LEN(H20)>0, IF(LEN(G21)>0, IF(LEN(G22)>0, G22, OFFSET(G22, -(Input!$H$18), 0)),""),"") | I21: =IF(LEN(I20)>0, IF(LEN(H21)>0, IF(LEN(H22)>0, H22, OFFSET(H22, -(Input!$H$18), 0)),""),"") | J21: =IF(LEN(J20)>0, IF(LEN(I21)>0, IF(LEN(I22)>0, I22, OFFSET(I22, -(Input!$H$18), 0)),""),"") | K21: =IF(LEN(K20)>0, IF(LEN(J21)>0, IF(LEN(J22)>0, J22, OFFSET(J22, -(Input!$H$18), 0)),""),"") | L21: =IF(LEN(L20)>0, IF(LEN(K21)>0, IF(LEN(K22)>0, K22, OFFSET(K22, -(Input!$H$18), 0)),""),"")

Sheet Final
